Workbook

Sheet Read me
A1: How to use this answer workbook
A2: FormulaSmith practice package 2026-10-08.1
A3: Source: 180 rows. Reference: 180 rows.
A4: Data is the unchanged source. Reference contains fixed expected values.
A5: Checks and summary sheets are fixed answer keys, not live PivotTables.
A6: Formula solution (when present) recalculates in the spreadsheet application.
A7: Do not treat a generated file as a native Excel execution certificate.
A8: Use the separate tasks/walkthrough handouts for all instructions.
A9: Free for practice, teaching, demos and commercial use. No signup required.
A10: Attribution is welcome, not required. Synthetic data, not real people.
A11: https://formulasmith.com/en/sample-data/student-grades/

Sheet Data
A1: Student ID | B1: Student | C1: Subject | D1: Term | E1: Score | F1: Attendance
A2: STU-1000 | B2: Lucas | C2: History | D2: Autumn | E2: 80 | F2: 97
A3: STU-1001 | B3: Lena | C3: Economics | D3: Autumn | E3: 66 | F3: 89
A4: STU-1002 | B4: Ethan | C4: Physics | D4: Autumn | E4: 51 | F4: 81
A5: STU-1003 | B5: Nora | C5: Biology | D5: Autumn | E5: 37 | F5: 74
A6: STU-1004 | B6: Noah | C6: Physics | D6: Spring | E6: 68 | F6: 91
A7: STU-1005 | B7: Maya | C7: Biology | D7: Autumn | E7: 54 | F7: 83
A8: STU-1006 | B8: Ava | C8: Mathematics | D8: Spring | E8: 39 | F8: 75
A9: STU-1007 | B9: Chloe | C9: History | D9: Spring | E9: 94 | F9: 67
A10: STU-1008 | B10: Adam | C10: Economics | D10: Spring | E10: 35 | F10: 72
A11: STU-1009 | B11: Emma | C11: History | D11: Spring | E11: 89 | F11: 64
A12: STU-1010 | B12: Lena | C12: Physics | D12: Summer | E12: 84 | F12: 93
A13: STU-1011 | B13: Lucas | C13: Biology | D13: Summer | E13: 98 | F13: 63
... A181: STU-1179 | B181: Mia | C181: Economics | D181: Spring | E181: 59 | F181: 67

Sheet Reference
A1: Student ID | B1: Student | C1: Subject | D1: Term | E1: Score | F1: Attendance | G1: Grade | H1: Rank | I1: Attendance fraction | J1: Result
A2: STU-1000 | B2: Lucas | C2: History | D2: Autumn | E2: 80 | F2: 97 | G2: B | H2: 59 | I2: 0.97 | J2: Pass
A3: STU-1001 | B3: Lena | C3: Economics | D3: Autumn | E3: 66 | F3: 89 | G3: D | H3: 92 | I3: 0.89 | J3: Pass
A4: STU-1002 | B4: Ethan | C4: Physics | D4: Autumn | E4: 51 | F4: 81 | G4: F | H4: 126 | I4: 0.81 | J4: Review
A5: STU-1003 | B5: Nora | C5: Biology | D5: Autumn | E5: 37 | F5: 74 | G5: F | H5: 161 | I5: 0.74 | J5: Review
A6: STU-1004 | B6: Noah | C6: Physics | D6: Spring | E6: 68 | F6: 91 | G6: D | H6: 85 | I6: 0.91 | J6: Pass
A7: STU-1005 | B7: Maya | C7: Biology | D7: Autumn | E7: 54 | F7: 83 | G7: F | H7: 118 | I7: 0.83 | J7: Review
A8: STU-1006 | B8: Ava | C8: Mathematics | D8: Spring | E8: 39 | F8: 75 | G8: F | H8: 154 | I8: 0.75 | J8: Review
A9: STU-1007 | B9: Chloe | C9: History | D9: Spring | E9: 94 | F9: 67 | G9: A | H9: 18 | I9: 0.67 | J9: Pass
A10: STU-1008 | B10: Adam | C10: Economics | D10: Spring | E10: 35 | F10: 72 | G10: F | H10: 168 | I10: 0.72 | J10: Review
A11: STU-1009 | B11: Emma | C11: History | D11: Spring | E11: 89 | F11: 64 | G11: B | H11: 31 | I11: 0.64 | J11: Pass
A12: STU-1010 | B12: Lena | C12: Physics | D12: Summer | E12: 84 | F12: 93 | G12: B | H12: 45 | I12: 0.93 | J12: Pass
A13: STU-1011 | B13: Lucas | C13: Biology | D13: Summer | E13: 98 | F13: 63 | G13: A | H13: 4 | I13: 0.63 | J13: Pass
... A181: STU-1179 | B181: Mia | C181: Economics | D181: Spring | E181: 59 | F181: 67 | G181: F | H181: 106 | I181: 0.67 | J181: Review

Sheet Checks
A1: Check | B1: Expected
A2: Score records | B2: 180
A3: Mean score (2 decimals) | B3: 65.81
A4: Minimum score | B4: 31
A5: Maximum score | B5: 100
A6: First record rank | B6: 59
A7: Pass records (score >= 60) | B7: 105

Sheet Subject answers
A1: Subject | B1: Records | C1: Average score (2 decimals)
A2: Biology | B2: 36 | C2: 66.83
A3: Economics | B3: 35 | C3: 61.86
A4: History | B4: 37 | C4: 67.86
A5: Mathematics | B5: 36 | C5: 66.53
A6: Physics | B6: 36 | C6: 65.81

Sheet Grade-band answers
A1: Band | B1: Records
A2: A | B2: 30
A3: B | B3: 29
A4: C | B4: 23
A5: D | B5: 23
A6: F | B6: 75

Sheet Rules
A1: Rule | B1: Value
A2: A minimum | B2: 90
A3: B minimum | B3: 80
A4: C minimum | B4: 70
A5: D minimum | B5: 60
A6: Pass minimum | B6: 60
A7: Attendance divisor | B7: 100

Sheet Formula solution
A1: Student ID | B1: Student | C1: Subject | D1: Term | E1: Score | F1: Attendance | G1: Grade | H1: Rank | I1: Attendance fraction | J1: Result
A2: STU-1000 | B2: Lucas | C2: History | D2: Autumn | E2: 80 | F2: 97 | G2: =IF(E2>=Rules!$B$2,"A",IF(E2>=Rules!$B$3,"B",IF(E2>=Rules!$B$4,"C",IF(E2>=Rules!$B$5,"D","F")))) | H2: =COUNTIF($E$2:$E$181,">"&E2)+1 | I2: =F2/Rules!$B$7 | J2: =IF(E2>=Rules!$B$6,"Pass","Review")
A3: STU-1001 | B3: Lena | C3: Economics | D3: Autumn | E3: 66 | F3: 89 | G3: =IF(E3>=Rules!$B$2,"A",IF(E3>=Rules!$B$3,"B",IF(E3>=Rules!$B$4,"C",IF(E3>=Rules!$B$5,"D","F")))) | H3: =COUNTIF($E$2:$E$181,">"&E3)+1 | I3: =F3/Rules!$B$7 | J3: =IF(E3>=Rules!$B$6,"Pass","Review")
A4: STU-1002 | B4: Ethan | C4: Physics | D4: Autumn | E4: 51 | F4: 81 | G4: =IF(E4>=Rules!$B$2,"A",IF(E4>=Rules!$B$3,"B",IF(E4>=Rules!$B$4,"C",IF(E4>=Rules!$B$5,"D","F")))) | H4: =COUNTIF($E$2:$E$181,">"&E4)+1 | I4: =F4/Rules!$B$7 | J4: =IF(E4>=Rules!$B$6,"Pass","Review")
A5: STU-1003 | B5: Nora | C5: Biology | D5: Autumn | E5: 37 | F5: 74 | G5: =IF(E5>=Rules!$B$2,"A",IF(E5>=Rules!$B$3,"B",IF(E5>=Rules!$B$4,"C",IF(E5>=Rules!$B$5,"D","F")))) | H5: =COUNTIF($E$2:$E$181,">"&E5)+1 | I5: =F5/Rules!$B$7 | J5: =IF(E5>=Rules!$B$6,"Pass","Review")
A6: STU-1004 | B6: Noah | C6: Physics | D6: Spring | E6: 68 | F6: 91 | G6: =IF(E6>=Rules!$B$2,"A",IF(E6>=Rules!$B$3,"B",IF(E6>=Rules!$B$4,"C",IF(E6>=Rules!$B$5,"D","F")))) | H6: =COUNTIF($E$2:$E$181,">"&E6)+1 | I6: =F6/Rules!$B$7 | J6: =IF(E6>=Rules!$B$6,"Pass","Review")
A7: STU-1005 | B7: Maya | C7: Biology | D7: Autumn | E7: 54 | F7: 83 | G7: =IF(E7>=Rules!$B$2,"A",IF(E7>=Rules!$B$3,"B",IF(E7>=Rules!$B$4,"C",IF(E7>=Rules!$B$5,"D","F")))) | H7: =COUNTIF($E$2:$E$181,">"&E7)+1 | I7: =F7/Rules!$B$7 | J7: =IF(E7>=Rules!$B$6,"Pass","Review")
A8: STU-1006 | B8: Ava | C8: Mathematics | D8: Spring | E8: 39 | F8: 75 | G8: =IF(E8>=Rules!$B$2,"A",IF(E8>=Rules!$B$3,"B",IF(E8>=Rules!$B$4,"C",IF(E8>=Rules!$B$5,"D","F")))) | H8: =COUNTIF($E$2:$E$181,">"&E8)+1 | I8: =F8/Rules!$B$7 | J8: =IF(E8>=Rules!$B$6,"Pass","Review")
A9: STU-1007 | B9: Chloe | C9: History | D9: Spring | E9: 94 | F9: 67 | G9: =IF(E9>=Rules!$B$2,"A",IF(E9>=Rules!$B$3,"B",IF(E9>=Rules!$B$4,"C",IF(E9>=Rules!$B$5,"D","F")))) | H9: =COUNTIF($E$2:$E$181,">"&E9)+1 | I9: =F9/Rules!$B$7 | J9: =IF(E9>=Rules!$B$6,"Pass","Review")
A10: STU-1008 | B10: Adam | C10: Economics | D10: Spring | E10: 35 | F10: 72 | G10: =IF(E10>=Rules!$B$2,"A",IF(E10>=Rules!$B$3,"B",IF(E10>=Rules!$B$4,"C",IF(E10>=Rules!$B$5,"D","F")))) | H10: =COUNTIF($E$2:$E$181,">"&E10)+1 | I10: =F10/Rules!$B$7 | J10: =IF(E10>=Rules!$B$6,"Pass","Review")
A11: STU-1009 | B11: Emma | C11: History | D11: Spring | E11: 89 | F11: 64 | G11: =IF(E11>=Rules!$B$2,"A",IF(E11>=Rules!$B$3,"B",IF(E11>=Rules!$B$4,"C",IF(E11>=Rules!$B$5,"D","F")))) | H11: =COUNTIF($E$2:$E$181,">"&E11)+1 | I11: =F11/Rules!$B$7 | J11: =IF(E11>=Rules!$B$6,"Pass","Review")
A12: STU-1010 | B12: Lena | C12: Physics | D12: Summer | E12: 84 | F12: 93 | G12: =IF(E12>=Rules!$B$2,"A",IF(E12>=Rules!$B$3,"B",IF(E12>=Rules!$B$4,"C",IF(E12>=Rules!$B$5,"D","F")))) | H12: =COUNTIF($E$2:$E$181,">"&E12)+1 | I12: =F12/Rules!$B$7 | J12: =IF(E12>=Rules!$B$6,"Pass","Review")
A13: STU-1011 | B13: Lucas | C13: Biology | D13: Summer | E13: 98 | F13: 63 | G13: =IF(E13>=Rules!$B$2,"A",IF(E13>=Rules!$B$3,"B",IF(E13>=Rules!$B$4,"C",IF(E13>=Rules!$B$5,"D","F")))) | H13: =COUNTIF($E$2:$E$181,">"&E13)+1 | I13: =F13/Rules!$B$7 | J13: =IF(E13>=Rules!$B$6,"Pass","Review")
... A181: STU-1179 | B181: Mia | C181: Economics | D181: Spring | E181: 59 | F181: 67 | G181: =IF(E181>=Rules!$B$2,"A",IF(E181>=Rules!$B$3,"B",IF(E181>=Rules!$B$4,"C",IF(E181>=Rules!$B$5,"D","F")))) | H181: =COUNTIF($E$2:$E$181,">"&E181)+1 | I181: =F181/Rules!$B$7 | J181: =IF(E181>=Rules!$B$6,"Pass","Review")
